BEGIN:VCALENDAR
VERSION:2.0
PRODID:-//De Basis Soesterberg - ECPv6.15.20//NONSGML v1.0//EN
CALSCALE:GREGORIAN
METHOD:PUBLISH
X-ORIGINAL-URL:https://debasissoesterberg.nl
X-WR-CALDESC:Evenementen voor De Basis Soesterberg
REFRESH-INTERVAL;VALUE=DURATION:PT1H
X-Robots-Tag:noindex
X-PUBLISHED-TTL:PT1H
BEGIN:VTIMEZONE
TZID:UTC
BEGIN:STANDARD
TZOFFSETFROM:+0000
TZOFFSETTO:+0000
TZNAME:UTC
DTSTART:20250101T000000
END:STANDARD
END:VTIMEZONE
BEGIN:VEVENT
DTSTART;TZID=UTC:20260602T140000
DTEND;TZID=UTC:20260602T160000
DTSTAMP:20260421T104050
CREATED:20250217T161919Z
LAST-MODIFIED:20251208T093854Z
UID:10022096-1780408800-1780416000@debasissoesterberg.nl
SUMMARY:Inloopspreekuur Digitaal
DESCRIPTION:Tijdens het Inloopspreekuur Digitaal in de bibliotheek kan iedereen binnenlopen met een vraag over de digitale overheid of hulp bij het aanmelden voor een computercursus in de bibliotheek. Daarnaast helpen vrijwilligers van SeniorWeb bij vragen over laptop\, tablet of telefoon. \nIn de bibliotheek is gratis wifi. Het is handig ervoor te zorgen dat het apparaat is opgeladen en neem ook altijd de benodigde gegevens mee\, zoals wachtwoord en gebruikersnaam van je apparaat. Een afspraak maken is niet nodig en onze hulp is gratis. Voor nadere informatie zijn wij telefonisch bereikbaar via 030 695 83 93.
URL:https://debasissoesterberg.nl/activiteit/inloopspreekuur-digitaal-2/2026-06-02/
LOCATION:Bibliotheek\, Den Berghplein 1\, Soesterberg\, 3769 DZ\, Nederland
CATEGORIES:Digitaal,Spreekuur
ATTACH;FMTTYPE=image/jpeg:https://debasissoesterberg.nl/wp-content/uploads/2024/07/stopper-agenda-bieb.jpg
END:VEVENT
BEGIN:VEVENT
DTSTART;TZID=UTC:20260603T103000
DTEND;TZID=UTC:20260603T104500
DTSTAMP:20260421T104050
CREATED:20240815T155805Z
LAST-MODIFIED:20251208T094754Z
UID:10022250-1780482600-1780483500@debasissoesterberg.nl
SUMMARY:Voorleeskwartiertje
DESCRIPTION:Speciaal voor jonge kinderen lezen we iedere week een leuk\, grappig of spannend verhaal voor in de Bibliotheek. Voorlezen is niet alleen leuk en gezellig\, maar ook goed voor de ontwikkeling. Verhalen prikkelen de fantasie\, breiden de woordenschat van jonge kinderen uit en stimuleren de ontwikkeling van het taalgevoel en de sociaal-emotionele vaardigheden.
URL:https://debasissoesterberg.nl/activiteit/voorleeskwartiertje-2/2026-06-03/
LOCATION:Bibliotheek\, Den Berghplein 1\, Soesterberg\, 3769 DZ\, Nederland
CATEGORIES:Kinderen
ATTACH;FMTTYPE=image/jpeg:https://debasissoesterberg.nl/wp-content/uploads/2024/08/Voorlees.jpg
END:VEVENT
BEGIN:VEVENT
DTSTART;TZID=UTC:20260609T140000
DTEND;TZID=UTC:20260609T160000
DTSTAMP:20260421T104050
CREATED:20250217T161919Z
LAST-MODIFIED:20251208T093854Z
UID:10022097-1781013600-1781020800@debasissoesterberg.nl
SUMMARY:Inloopspreekuur Digitaal
DESCRIPTION:Tijdens het Inloopspreekuur Digitaal in de bibliotheek kan iedereen binnenlopen met een vraag over de digitale overheid of hulp bij het aanmelden voor een computercursus in de bibliotheek. Daarnaast helpen vrijwilligers van SeniorWeb bij vragen over laptop\, tablet of telefoon. \nIn de bibliotheek is gratis wifi. Het is handig ervoor te zorgen dat het apparaat is opgeladen en neem ook altijd de benodigde gegevens mee\, zoals wachtwoord en gebruikersnaam van je apparaat. Een afspraak maken is niet nodig en onze hulp is gratis. Voor nadere informatie zijn wij telefonisch bereikbaar via 030 695 83 93.
URL:https://debasissoesterberg.nl/activiteit/inloopspreekuur-digitaal-2/2026-06-09/
LOCATION:Bibliotheek\, Den Berghplein 1\, Soesterberg\, 3769 DZ\, Nederland
CATEGORIES:Digitaal,Spreekuur
ATTACH;FMTTYPE=image/jpeg:https://debasissoesterberg.nl/wp-content/uploads/2024/07/stopper-agenda-bieb.jpg
END:VEVENT
BEGIN:VEVENT
DTSTART;TZID=UTC:20260610T103000
DTEND;TZID=UTC:20260610T104500
DTSTAMP:20260421T104050
CREATED:20240815T155805Z
LAST-MODIFIED:20251208T094754Z
UID:10022251-1781087400-1781088300@debasissoesterberg.nl
SUMMARY:Voorleeskwartiertje
DESCRIPTION:Speciaal voor jonge kinderen lezen we iedere week een leuk\, grappig of spannend verhaal voor in de Bibliotheek. Voorlezen is niet alleen leuk en gezellig\, maar ook goed voor de ontwikkeling. Verhalen prikkelen de fantasie\, breiden de woordenschat van jonge kinderen uit en stimuleren de ontwikkeling van het taalgevoel en de sociaal-emotionele vaardigheden.
URL:https://debasissoesterberg.nl/activiteit/voorleeskwartiertje-2/2026-06-10/
LOCATION:Bibliotheek\, Den Berghplein 1\, Soesterberg\, 3769 DZ\, Nederland
CATEGORIES:Kinderen
ATTACH;FMTTYPE=image/jpeg:https://debasissoesterberg.nl/wp-content/uploads/2024/08/Voorlees.jpg
END:VEVENT
BEGIN:VEVENT
DTSTART;TZID=UTC:20260616T140000
DTEND;TZID=UTC:20260616T160000
DTSTAMP:20260421T104050
CREATED:20250217T161919Z
LAST-MODIFIED:20251208T093854Z
UID:10022098-1781618400-1781625600@debasissoesterberg.nl
SUMMARY:Inloopspreekuur Digitaal
DESCRIPTION:Tijdens het Inloopspreekuur Digitaal in de bibliotheek kan iedereen binnenlopen met een vraag over de digitale overheid of hulp bij het aanmelden voor een computercursus in de bibliotheek. Daarnaast helpen vrijwilligers van SeniorWeb bij vragen over laptop\, tablet of telefoon. \nIn de bibliotheek is gratis wifi. Het is handig ervoor te zorgen dat het apparaat is opgeladen en neem ook altijd de benodigde gegevens mee\, zoals wachtwoord en gebruikersnaam van je apparaat. Een afspraak maken is niet nodig en onze hulp is gratis. Voor nadere informatie zijn wij telefonisch bereikbaar via 030 695 83 93.
URL:https://debasissoesterberg.nl/activiteit/inloopspreekuur-digitaal-2/2026-06-16/
LOCATION:Bibliotheek\, Den Berghplein 1\, Soesterberg\, 3769 DZ\, Nederland
CATEGORIES:Digitaal,Spreekuur
ATTACH;FMTTYPE=image/jpeg:https://debasissoesterberg.nl/wp-content/uploads/2024/07/stopper-agenda-bieb.jpg
END:VEVENT
BEGIN:VEVENT
DTSTART;TZID=UTC:20260617T103000
DTEND;TZID=UTC:20260617T104500
DTSTAMP:20260421T104050
CREATED:20240815T155805Z
LAST-MODIFIED:20251208T094754Z
UID:10022252-1781692200-1781693100@debasissoesterberg.nl
SUMMARY:Voorleeskwartiertje
DESCRIPTION:Speciaal voor jonge kinderen lezen we iedere week een leuk\, grappig of spannend verhaal voor in de Bibliotheek. Voorlezen is niet alleen leuk en gezellig\, maar ook goed voor de ontwikkeling. Verhalen prikkelen de fantasie\, breiden de woordenschat van jonge kinderen uit en stimuleren de ontwikkeling van het taalgevoel en de sociaal-emotionele vaardigheden.
URL:https://debasissoesterberg.nl/activiteit/voorleeskwartiertje-2/2026-06-17/
LOCATION:Bibliotheek\, Den Berghplein 1\, Soesterberg\, 3769 DZ\, Nederland
CATEGORIES:Kinderen
ATTACH;FMTTYPE=image/jpeg:https://debasissoesterberg.nl/wp-content/uploads/2024/08/Voorlees.jpg
END:VEVENT
BEGIN:VEVENT
DTSTART;TZID=UTC:20260623T140000
DTEND;TZID=UTC:20260623T160000
DTSTAMP:20260421T104050
CREATED:20250217T161919Z
LAST-MODIFIED:20251208T093854Z
UID:10022099-1782223200-1782230400@debasissoesterberg.nl
SUMMARY:Inloopspreekuur Digitaal
DESCRIPTION:Tijdens het Inloopspreekuur Digitaal in de bibliotheek kan iedereen binnenlopen met een vraag over de digitale overheid of hulp bij het aanmelden voor een computercursus in de bibliotheek. Daarnaast helpen vrijwilligers van SeniorWeb bij vragen over laptop\, tablet of telefoon. \nIn de bibliotheek is gratis wifi. Het is handig ervoor te zorgen dat het apparaat is opgeladen en neem ook altijd de benodigde gegevens mee\, zoals wachtwoord en gebruikersnaam van je apparaat. Een afspraak maken is niet nodig en onze hulp is gratis. Voor nadere informatie zijn wij telefonisch bereikbaar via 030 695 83 93.
URL:https://debasissoesterberg.nl/activiteit/inloopspreekuur-digitaal-2/2026-06-23/
LOCATION:Bibliotheek\, Den Berghplein 1\, Soesterberg\, 3769 DZ\, Nederland
CATEGORIES:Digitaal,Spreekuur
ATTACH;FMTTYPE=image/jpeg:https://debasissoesterberg.nl/wp-content/uploads/2024/07/stopper-agenda-bieb.jpg
END:VEVENT
BEGIN:VEVENT
DTSTART;TZID=UTC:20260624T103000
DTEND;TZID=UTC:20260624T104500
DTSTAMP:20260421T104050
CREATED:20240815T155805Z
LAST-MODIFIED:20251208T094754Z
UID:10022253-1782297000-1782297900@debasissoesterberg.nl
SUMMARY:Voorleeskwartiertje
DESCRIPTION:Speciaal voor jonge kinderen lezen we iedere week een leuk\, grappig of spannend verhaal voor in de Bibliotheek. Voorlezen is niet alleen leuk en gezellig\, maar ook goed voor de ontwikkeling. Verhalen prikkelen de fantasie\, breiden de woordenschat van jonge kinderen uit en stimuleren de ontwikkeling van het taalgevoel en de sociaal-emotionele vaardigheden.
URL:https://debasissoesterberg.nl/activiteit/voorleeskwartiertje-2/2026-06-24/
LOCATION:Bibliotheek\, Den Berghplein 1\, Soesterberg\, 3769 DZ\, Nederland
CATEGORIES:Kinderen
ATTACH;FMTTYPE=image/jpeg:https://debasissoesterberg.nl/wp-content/uploads/2024/08/Voorlees.jpg
END:VEVENT
BEGIN:VEVENT
DTSTART;TZID=UTC:20260630T140000
DTEND;TZID=UTC:20260630T160000
DTSTAMP:20260421T104050
CREATED:20250217T161919Z
LAST-MODIFIED:20251208T093854Z
UID:10022100-1782828000-1782835200@debasissoesterberg.nl
SUMMARY:Inloopspreekuur Digitaal
DESCRIPTION:Tijdens het Inloopspreekuur Digitaal in de bibliotheek kan iedereen binnenlopen met een vraag over de digitale overheid of hulp bij het aanmelden voor een computercursus in de bibliotheek. Daarnaast helpen vrijwilligers van SeniorWeb bij vragen over laptop\, tablet of telefoon. \nIn de bibliotheek is gratis wifi. Het is handig ervoor te zorgen dat het apparaat is opgeladen en neem ook altijd de benodigde gegevens mee\, zoals wachtwoord en gebruikersnaam van je apparaat. Een afspraak maken is niet nodig en onze hulp is gratis. Voor nadere informatie zijn wij telefonisch bereikbaar via 030 695 83 93.
URL:https://debasissoesterberg.nl/activiteit/inloopspreekuur-digitaal-2/2026-06-30/
LOCATION:Bibliotheek\, Den Berghplein 1\, Soesterberg\, 3769 DZ\, Nederland
CATEGORIES:Digitaal,Spreekuur
ATTACH;FMTTYPE=image/jpeg:https://debasissoesterberg.nl/wp-content/uploads/2024/07/stopper-agenda-bieb.jpg
END:VEVENT
END:VCALENDAR